BEGIN:VCALENDAR
VERSION:2.0
PRODID:-//Homestead Products - ECPv6.15.20//NONSGML v1.0//EN
CALSCALE:GREGORIAN
METHOD:PUBLISH
X-ORIGINAL-URL:https://homesteadproductsmt.com
X-WR-CALDESC:Events for Homestead Products
REFRESH-INTERVAL;VALUE=DURATION:PT1H
X-Robots-Tag:noindex
X-PUBLISHED-TTL:PT1H
BEGIN:VTIMEZONE
TZID:America/Denver
BEGIN:DAYLIGHT
TZOFFSETFROM:-0700
TZOFFSETTO:-0600
TZNAME:MDT
DTSTART:20180311T090000
END:DAYLIGHT
BEGIN:STANDARD
TZOFFSETFROM:-0600
TZOFFSETTO:-0700
TZNAME:MST
DTSTART:20181104T080000
END:STANDARD
BEGIN:DAYLIGHT
TZOFFSETFROM:-0700
TZOFFSETTO:-0600
TZNAME:MDT
DTSTART:20190310T090000
END:DAYLIGHT
BEGIN:STANDARD
TZOFFSETFROM:-0600
TZOFFSETTO:-0700
TZNAME:MST
DTSTART:20191103T080000
END:STANDARD
BEGIN:DAYLIGHT
TZOFFSETFROM:-0700
TZOFFSETTO:-0600
TZNAME:MDT
DTSTART:20200308T090000
END:DAYLIGHT
BEGIN:STANDARD
TZOFFSETFROM:-0600
TZOFFSETTO:-0700
TZNAME:MST
DTSTART:20201101T080000
END:STANDARD
BEGIN:DAYLIGHT
TZOFFSETFROM:-0700
TZOFFSETTO:-0600
TZNAME:MDT
DTSTART:20210314T090000
END:DAYLIGHT
BEGIN:STANDARD
TZOFFSETFROM:-0600
TZOFFSETTO:-0700
TZNAME:MST
DTSTART:20211107T080000
END:STANDARD
BEGIN:DAYLIGHT
TZOFFSETFROM:-0700
TZOFFSETTO:-0600
TZNAME:MDT
DTSTART:20220313T090000
END:DAYLIGHT
BEGIN:STANDARD
TZOFFSETFROM:-0600
TZOFFSETTO:-0700
TZNAME:MST
DTSTART:20221106T080000
END:STANDARD
END:VTIMEZONE
BEGIN:VEVENT
DTSTART;TZID=America/Denver:20210705T170000
DTEND;TZID=America/Denver:20210705T193000
DTSTAMP:20260422T221739
CREATED:20210705T143832Z
LAST-MODIFIED:20210705T143832Z
UID:11080-1625504400-1625513400@homesteadproductsmt.com
SUMMARY:Bigfork Village Market
DESCRIPTION:Come join us every Monday night June – Sept in downtown Bigfork from 5-7:30!!
URL:https://homesteadproductsmt.com/where-to-find-us/bigfork-village-market-5/
END:VEVENT
BEGIN:VEVENT
DTSTART;VALUE=DATE:20210625
DTEND;VALUE=DATE:20210628
DTSTAMP:20260422T221739
CREATED:20210223T173447Z
LAST-MODIFIED:20210223T173447Z
UID:10607-1624579200-1624838399@homesteadproductsmt.com
SUMMARY:Artists and Craftsmen of the Flathead Summer Show
DESCRIPTION:
URL:https://homesteadproductsmt.com/where-to-find-us/artists-and-craftsmen-of-the-flathead-summer-show/
LOCATION:Flathead County Fairgrounds\, Kalispell\, MT
END:VEVENT
BEGIN:VEVENT
DTSTART;VALUE=DATE:20210326
DTEND;VALUE=DATE:20210329
DTSTAMP:20260422T221739
CREATED:20210125T000135Z
LAST-MODIFIED:20210125T000135Z
UID:10392-1616716800-1616975999@homesteadproductsmt.com
SUMMARY:Kalispell Gun Show - Spring 2021
DESCRIPTION:Now being held at the Majestic Valley Arena!
URL:https://homesteadproductsmt.com/where-to-find-us/kalispell-gun-show-spring-2021/
LOCATION:Majestic Valley Arena
END:VEVENT
BEGIN:VEVENT
DTSTART;VALUE=DATE:20210212
DTEND;VALUE=DATE:20210214
DTSTAMP:20260422T221739
CREATED:20210209T050907Z
LAST-MODIFIED:20210209T050907Z
UID:10527-1613088000-1613260799@homesteadproductsmt.com
SUMMARY:The Vendor Blender
DESCRIPTION:Come see us at the fairgrounds in Kalispell along with 70+ other vendors!
URL:https://homesteadproductsmt.com/where-to-find-us/the-vendor-blender/
LOCATION:Flathead County Fairgrounds\, Kalispell\, MT
END:VEVENT
BEGIN:VEVENT
DTSTART;TZID=America/Denver:20201212T100000
DTEND;TZID=America/Denver:20201212T150000
DTSTAMP:20260422T221739
CREATED:20201211T045021Z
LAST-MODIFIED:20201211T045434Z
UID:10186-1607767200-1607785200@homesteadproductsmt.com
SUMMARY:Family Life Christian Church
DESCRIPTION:This will be our last event of 2020! Come see us Saturday 10-3. \n1075 Foys Lake Rd\, Kalispell
URL:https://homesteadproductsmt.com/where-to-find-us/family-life-christian-church/
LOCATION:1075 Foys Lake Rd\, Kalispell\, 1075 Foys Lake Rd\, Kalispell\, United States
END:VEVENT
BEGIN:VEVENT
DTSTART;TZID=America/Denver:20201127T100000
DTEND;TZID=America/Denver:20201129T170000
DTSTAMP:20260422T221739
CREATED:20200620T032424Z
LAST-MODIFIED:20200620T032424Z
UID:9842-1606471200-1606669200@homesteadproductsmt.com
SUMMARY:Artists and Craftsmen of the Flathead Christmas Show
DESCRIPTION:
URL:https://homesteadproductsmt.com/where-to-find-us/artists-and-craftsmen-of-the-flathead-christmas-show/
LOCATION:Flathead County Fairgrounds\, Kalispell\, MT
END:VEVENT
BEGIN:VEVENT
DTSTART;VALUE=DATE:20201113
DTEND;VALUE=DATE:20201115
DTSTAMP:20260422T221739
CREATED:20201010T015038Z
LAST-MODIFIED:20201010T015038Z
UID:10008-1605225600-1605398399@homesteadproductsmt.com
SUMMARY:The Market Beautiful
DESCRIPTION:Come join us again at this amazing event!!!
URL:https://homesteadproductsmt.com/where-to-find-us/the-market-beautiful-2/
LOCATION:Flathead County Fairgrounds\, Kalispell\, MT
END:VEVENT
BEGIN:VEVENT
DTSTART;TZID=America/Denver:20200911T090000
DTEND;TZID=America/Denver:20200913T180000
DTSTAMP:20260422T221739
CREATED:20200620T032656Z
LAST-MODIFIED:20200620T032656Z
UID:9844-1599814800-1600020000@homesteadproductsmt.com
SUMMARY:Kalispell Gun Show
DESCRIPTION:
URL:https://homesteadproductsmt.com/where-to-find-us/kalispell-gun-show/
LOCATION:Majestic Valley Arena
END:VEVENT
BEGIN:VEVENT
DTSTART;TZID=America/Denver:20200801T090000
DTEND;TZID=America/Denver:20200802T163000
DTSTAMP:20260422T221739
CREATED:20200620T031739Z
LAST-MODIFIED:20200729T013851Z
UID:9834-1596272400-1596385800@homesteadproductsmt.com
SUMMARY:Bigfork Festival of the Arts
DESCRIPTION:WE LOVE THIS SHOW!!! We love meeting so many people who come out to see all the different artists that come out for this annual show!
URL:https://homesteadproductsmt.com/where-to-find-us/bigfork-festival-of-the-arts/
LOCATION:Bigfork\, Bigfork\, MT\, 59911
END:VEVENT
BEGIN:VEVENT
DTSTART;TZID=America/Denver:20191214T140000
DTEND;TZID=America/Denver:20191214T190000
DTSTAMP:20260422T221739
CREATED:20191119T164121Z
LAST-MODIFIED:20191119T164242Z
UID:4388-1576332000-1576350000@homesteadproductsmt.com
SUMMARY:Marina Cay - Sparrows Nest Art Stroll
DESCRIPTION:https://www.facebook.com/events/2340912422837681/
URL:https://homesteadproductsmt.com/where-to-find-us/marina-cay-sparrows-nest-art-stroll/
LOCATION:Marina Cay\, Bigfork
END:VEVENT
BEGIN:VEVENT
DTSTART;TZID=America/Denver:20191207T100000
DTEND;TZID=America/Denver:20191207T150000
DTSTAMP:20260422T221739
CREATED:20191119T164008Z
LAST-MODIFIED:20191119T164008Z
UID:4382-1575712800-1575730800@homesteadproductsmt.com
SUMMARY:Trinity Lutheran School Christmas Bazaar
DESCRIPTION:
URL:https://homesteadproductsmt.com/where-to-find-us/trinity-lutheran-school-christmas-bazaar/
LOCATION:Trinity Lutheran School\, 495 5th Avenue West N\, Kalispell\, MT\, 59901
END:VEVENT
BEGIN:VEVENT
DTSTART;VALUE=DATE:20191129
DTEND;VALUE=DATE:20191202
DTSTAMP:20260422T221739
CREATED:20191014T013922Z
LAST-MODIFIED:20191014T013922Z
UID:3394-1574985600-1575244799@homesteadproductsmt.com
SUMMARY:Artists and Craftsmen Christmas Show
DESCRIPTION:
URL:https://homesteadproductsmt.com/where-to-find-us/artists-and-craftsmen-christmas-show/
END:VEVENT
BEGIN:VEVENT
DTSTART;TZID=America/Denver:20191123T100000
DTEND;TZID=America/Denver:20191123T160000
DTSTAMP:20260422T221739
CREATED:20191014T013829Z
LAST-MODIFIED:20191014T013829Z
UID:3392-1574503200-1574524800@homesteadproductsmt.com
SUMMARY:West Valley Craft Show
DESCRIPTION:
URL:https://homesteadproductsmt.com/where-to-find-us/west-valley-craft-show/
END:VEVENT
BEGIN:VEVENT
DTSTART;TZID=America/Denver:20191116T110000
DTEND;TZID=America/Denver:20191116T130000
DTSTAMP:20260422T221739
CREATED:20191012T024626Z
LAST-MODIFIED:20191012T025705Z
UID:2659-1573902000-1573909200@homesteadproductsmt.com
SUMMARY:Bigfork Chapel Christmas Bazaar and Luncheon
DESCRIPTION:
URL:https://homesteadproductsmt.com/where-to-find-us/bigfork-chapel-christmas-bazaar-and-luncheon/
END:VEVENT
BEGIN:VEVENT
DTSTART;TZID=America/Denver:20191109T100000
DTEND;TZID=America/Denver:20191109T160000
DTSTAMP:20260422T221739
CREATED:20191012T024509Z
LAST-MODIFIED:20191012T024509Z
UID:2653-1573293600-1573315200@homesteadproductsmt.com
SUMMARY:The Market Beautiful
DESCRIPTION:
URL:https://homesteadproductsmt.com/where-to-find-us/the-market-beautiful/
LOCATION:Flathead County Fairgrounds\, Kalispell\, MT
END:VEVENT
END:VCALENDAR