BEGIN:VCALENDAR
VERSION:2.0
PRODID:-//Homestead Products - ECPv6.15.20//NONSGML v1.0//EN
CALSCALE:GREGORIAN
METHOD:PUBLISH
X-ORIGINAL-URL:https://homesteadproductsmt.com
X-WR-CALDESC:Events for Homestead Products
REFRESH-INTERVAL;VALUE=DURATION:PT1H
X-Robots-Tag:noindex
X-PUBLISHED-TTL:PT1H
BEGIN:VTIMEZONE
TZID:America/Denver
BEGIN:DAYLIGHT
TZOFFSETFROM:-0700
TZOFFSETTO:-0600
TZNAME:MDT
DTSTART:20240310T090000
END:DAYLIGHT
BEGIN:STANDARD
TZOFFSETFROM:-0600
TZOFFSETTO:-0700
TZNAME:MST
DTSTART:20241103T080000
END:STANDARD
BEGIN:DAYLIGHT
TZOFFSETFROM:-0700
TZOFFSETTO:-0600
TZNAME:MDT
DTSTART:20250309T090000
END:DAYLIGHT
BEGIN:STANDARD
TZOFFSETFROM:-0600
TZOFFSETTO:-0700
TZNAME:MST
DTSTART:20251102T080000
END:STANDARD
BEGIN:DAYLIGHT
TZOFFSETFROM:-0700
TZOFFSETTO:-0600
TZNAME:MDT
DTSTART:20260308T090000
END:DAYLIGHT
BEGIN:STANDARD
TZOFFSETFROM:-0600
TZOFFSETTO:-0700
TZNAME:MST
DTSTART:20261101T080000
END:STANDARD
END:VTIMEZONE
BEGIN:VEVENT
DTSTART;VALUE=DATE:20251213
DTEND;VALUE=DATE:20251215
DTSTAMP:20260422T202759
CREATED:20250519T221201Z
LAST-MODIFIED:20250519T221201Z
UID:17183-1765584000-1765756799@homesteadproductsmt.com
SUMMARY:Kalispell Weekend Market
DESCRIPTION:Held at the Majestic Valley Arena
URL:https://homesteadproductsmt.com/where-to-find-us/kalispell-weekend-market-2/
END:VEVENT
BEGIN:VEVENT
DTSTART;VALUE=DATE:20251127
DTEND;VALUE=DATE:20251201
DTSTAMP:20260422T202759
CREATED:20250317T232146Z
LAST-MODIFIED:20250317T232146Z
UID:17118-1764201600-1764547199@homesteadproductsmt.com
SUMMARY:The Artists and Craftsmen of the Flathead Christmas Show
DESCRIPTION:
URL:https://homesteadproductsmt.com/where-to-find-us/the-artists-and-craftsmen-of-the-flathead-christmas-show/
END:VEVENT
BEGIN:VEVENT
DTSTART;VALUE=DATE:20251122
DTEND;VALUE=DATE:20251124
DTSTAMP:20260422T202759
CREATED:20250519T221111Z
LAST-MODIFIED:20250519T221111Z
UID:17181-1763769600-1763942399@homesteadproductsmt.com
SUMMARY:Kalispell Weekend Market
DESCRIPTION:Held at the Majestic Valley Arena
URL:https://homesteadproductsmt.com/where-to-find-us/kalispell-weekend-market/
END:VEVENT
BEGIN:VEVENT
DTSTART;VALUE=DATE:20250912
DTEND;VALUE=DATE:20250914
DTSTAMP:20260422T202759
CREATED:20250317T232020Z
LAST-MODIFIED:20250317T232020Z
UID:17116-1757635200-1757807999@homesteadproductsmt.com
SUMMARY:Flathead Celtic Festival
DESCRIPTION:
URL:https://homesteadproductsmt.com/where-to-find-us/flathead-celtic-festival-3/
END:VEVENT
BEGIN:VEVENT
DTSTART;TZID=America/Denver:20250901T170000
DTEND;TZID=America/Denver:20250901T193000
DTSTAMP:20260422T202759
CREATED:20250318T034438Z
LAST-MODIFIED:20250318T034438Z
UID:17146-1756746000-1756755000@homesteadproductsmt.com
SUMMARY:The Bigfork Monday Market
DESCRIPTION:
URL:https://homesteadproductsmt.com/where-to-find-us/the-bigfork-monday-market-15/
END:VEVENT
BEGIN:VEVENT
DTSTART;TZID=America/Denver:20250831T090000
DTEND;TZID=America/Denver:20250831T130000
DTSTAMP:20260422T202759
CREATED:20250623T032105Z
LAST-MODIFIED:20250623T032105Z
UID:17287-1756630800-1756645200@homesteadproductsmt.com
SUMMARY:Seeley Lake Weekend Market
DESCRIPTION:
URL:https://homesteadproductsmt.com/where-to-find-us/seeley-lake-weekend-market-5/
END:VEVENT
BEGIN:VEVENT
DTSTART;TZID=America/Denver:20250825T170000
DTEND;TZID=America/Denver:20250825T193000
DTSTAMP:20260422T202759
CREATED:20250318T034300Z
LAST-MODIFIED:20250318T034300Z
UID:17144-1756141200-1756150200@homesteadproductsmt.com
SUMMARY:The Bigfork Monday Market
DESCRIPTION:
URL:https://homesteadproductsmt.com/where-to-find-us/the-bigfork-monday-market-14/
END:VEVENT
BEGIN:VEVENT
DTSTART;TZID=America/Denver:20250824T090000
DTEND;TZID=America/Denver:20250824T130000
DTSTAMP:20260422T202759
CREATED:20250623T031929Z
LAST-MODIFIED:20250623T031929Z
UID:17285-1756026000-1756040400@homesteadproductsmt.com
SUMMARY:Seeley Lake Weekend Market
DESCRIPTION:
URL:https://homesteadproductsmt.com/where-to-find-us/seeley-lake-weekend-market-4/
END:VEVENT
BEGIN:VEVENT
DTSTART;TZID=America/Denver:20250818T170000
DTEND;TZID=America/Denver:20250818T193000
DTSTAMP:20260422T202759
CREATED:20250318T034150Z
LAST-MODIFIED:20250318T034150Z
UID:17142-1755536400-1755545400@homesteadproductsmt.com
SUMMARY:The Bigfork Monday Market
DESCRIPTION:
URL:https://homesteadproductsmt.com/where-to-find-us/the-bigfork-monday-market-13/
END:VEVENT
BEGIN:VEVENT
DTSTART;VALUE=DATE:20250816
DTEND;VALUE=DATE:20250819
DTSTAMP:20260422T202759
CREATED:20250317T231930Z
LAST-MODIFIED:20250317T231930Z
UID:17114-1755302400-1755561599@homesteadproductsmt.com
SUMMARY:Bitterroot Celtic Games and Gathering - Hamilton
DESCRIPTION:
URL:https://homesteadproductsmt.com/where-to-find-us/bitterroot-celtic-games-and-gathering-hamilton/
END:VEVENT
BEGIN:VEVENT
DTSTART;TZID=America/Denver:20250811T170000
DTEND;TZID=America/Denver:20250811T193000
DTSTAMP:20260422T202759
CREATED:20250318T034104Z
LAST-MODIFIED:20250318T034104Z
UID:17140-1754931600-1754940600@homesteadproductsmt.com
SUMMARY:The Bigfork Monday Market
DESCRIPTION:
URL:https://homesteadproductsmt.com/where-to-find-us/the-bigfork-monday-market-12/
END:VEVENT
BEGIN:VEVENT
DTSTART;TZID=America/Denver:20250810T090000
DTEND;TZID=America/Denver:20250810T130000
DTSTAMP:20260422T202759
CREATED:20250623T031852Z
LAST-MODIFIED:20250623T031852Z
UID:17283-1754816400-1754830800@homesteadproductsmt.com
SUMMARY:Seeley Lake Weekend Market
DESCRIPTION:
URL:https://homesteadproductsmt.com/where-to-find-us/seeley-lake-weekend-market-3/
END:VEVENT
BEGIN:VEVENT
DTSTART;VALUE=DATE:20250809
DTEND;VALUE=DATE:20250810
DTSTAMP:20260422T202759
CREATED:20250317T231802Z
LAST-MODIFIED:20250317T231802Z
UID:17112-1754697600-1754783999@homesteadproductsmt.com
SUMMARY:Swan Lake Huckleberry Festival
DESCRIPTION:
URL:https://homesteadproductsmt.com/where-to-find-us/swan-lake-huckleberry-festival-4/
END:VEVENT
BEGIN:VEVENT
DTSTART;TZID=America/Denver:20250804T170000
DTEND;TZID=America/Denver:20250804T193000
DTSTAMP:20260422T202759
CREATED:20250318T034018Z
LAST-MODIFIED:20250318T034018Z
UID:17138-1754326800-1754335800@homesteadproductsmt.com
SUMMARY:The Bigfork Monday Market
DESCRIPTION:
URL:https://homesteadproductsmt.com/where-to-find-us/the-bigfork-monday-market-11/
END:VEVENT
BEGIN:VEVENT
DTSTART;TZID=America/Denver:20250728T170000
DTEND;TZID=America/Denver:20250728T193000
DTSTAMP:20260422T202759
CREATED:20250318T033927Z
LAST-MODIFIED:20250318T033927Z
UID:17136-1753722000-1753731000@homesteadproductsmt.com
SUMMARY:The Bigfork Monday Market
DESCRIPTION:
URL:https://homesteadproductsmt.com/where-to-find-us/the-bigfork-monday-market-10/
END:VEVENT
BEGIN:VEVENT
DTSTART;VALUE=DATE:20250726
DTEND;VALUE=DATE:20250728
DTSTAMP:20260422T202759
CREATED:20250519T220803Z
LAST-MODIFIED:20250519T220803Z
UID:17179-1753488000-1753660799@homesteadproductsmt.com
SUMMARY:Flathead Cherry Festival - Polson
DESCRIPTION:
URL:https://homesteadproductsmt.com/where-to-find-us/flathead-cherry-festival-polson/
END:VEVENT
BEGIN:VEVENT
DTSTART;TZID=America/Denver:20250721T170000
DTEND;TZID=America/Denver:20250721T193000
DTSTAMP:20260422T202759
CREATED:20250318T033853Z
LAST-MODIFIED:20250318T033853Z
UID:17134-1753117200-1753126200@homesteadproductsmt.com
SUMMARY:The Bigfork Monday Market
DESCRIPTION:
URL:https://homesteadproductsmt.com/where-to-find-us/the-bigfork-monday-market-9/
END:VEVENT
BEGIN:VEVENT
DTSTART;VALUE=DATE:20250716
DTEND;VALUE=DATE:20250721
DTSTAMP:20260422T202759
CREATED:20250317T231631Z
LAST-MODIFIED:20250317T231631Z
UID:17110-1752624000-1753055999@homesteadproductsmt.com
SUMMARY:The Event at Rebecca Farm
DESCRIPTION:
URL:https://homesteadproductsmt.com/where-to-find-us/the-event-at-rebecca-farm-2/
END:VEVENT
BEGIN:VEVENT
DTSTART;TZID=America/Denver:20250714T170000
DTEND;TZID=America/Denver:20250714T193000
DTSTAMP:20260422T202759
CREATED:20250318T033749Z
LAST-MODIFIED:20250318T033749Z
UID:17132-1752512400-1752521400@homesteadproductsmt.com
SUMMARY:The Bigfork Monday Market
DESCRIPTION:
URL:https://homesteadproductsmt.com/where-to-find-us/the-bigfork-monday-market-8/
END:VEVENT
BEGIN:VEVENT
DTSTART;TZID=America/Denver:20250713T090000
DTEND;TZID=America/Denver:20250713T130000
DTSTAMP:20260422T202759
CREATED:20250623T031707Z
LAST-MODIFIED:20250623T031707Z
UID:17281-1752397200-1752411600@homesteadproductsmt.com
SUMMARY:Seeley Lake Weekend Market
DESCRIPTION:
URL:https://homesteadproductsmt.com/where-to-find-us/seeley-lake-weekend-market-2/
END:VEVENT
BEGIN:VEVENT
DTSTART;VALUE=DATE:20250711
DTEND;VALUE=DATE:20250713
DTSTAMP:20260422T202759
CREATED:20250317T231533Z
LAST-MODIFIED:20250317T231533Z
UID:17108-1752192000-1752364799@homesteadproductsmt.com
SUMMARY:The Market Beautiful @ Snowline Acres
DESCRIPTION:
URL:https://homesteadproductsmt.com/where-to-find-us/the-market-beautiful-snowline-acres/
END:VEVENT
BEGIN:VEVENT
DTSTART;TZID=America/Denver:20250707T170000
DTEND;TZID=America/Denver:20250707T193000
DTSTAMP:20260422T202759
CREATED:20250318T033556Z
LAST-MODIFIED:20250318T033556Z
UID:17130-1751907600-1751916600@homesteadproductsmt.com
SUMMARY:The Bigfork Monday Market
DESCRIPTION:
URL:https://homesteadproductsmt.com/where-to-find-us/the-bigfork-monday-market-7/
END:VEVENT
BEGIN:VEVENT
DTSTART;TZID=America/Denver:20250706T090000
DTEND;TZID=America/Denver:20250706T130000
DTSTAMP:20260422T202759
CREATED:20250623T031330Z
LAST-MODIFIED:20250623T031601Z
UID:17279-1751792400-1751806800@homesteadproductsmt.com
SUMMARY:Seeley Lake Weekend Market
DESCRIPTION:
URL:https://homesteadproductsmt.com/where-to-find-us/seeley-lake-weekend-market/
END:VEVENT
BEGIN:VEVENT
DTSTART;TZID=America/Denver:20250630T170000
DTEND;TZID=America/Denver:20250630T193000
DTSTAMP:20260422T202759
CREATED:20250318T033438Z
LAST-MODIFIED:20250318T033438Z
UID:17128-1751302800-1751311800@homesteadproductsmt.com
SUMMARY:The Bigfork Monday Market
DESCRIPTION:
URL:https://homesteadproductsmt.com/where-to-find-us/the-bigfork-monday-market-6/
END:VEVENT
BEGIN:VEVENT
DTSTART;TZID=America/Denver:20250629T090000
DTEND;TZID=America/Denver:20250629T130000
DTSTAMP:20260422T202759
CREATED:20250623T032219Z
LAST-MODIFIED:20250623T032219Z
UID:17289-1751187600-1751202000@homesteadproductsmt.com
SUMMARY:Seeley Lake Weekend Market
DESCRIPTION:
URL:https://homesteadproductsmt.com/where-to-find-us/seeley-lake-weekend-market-6/
END:VEVENT
BEGIN:VEVENT
DTSTART;TZID=America/Denver:20250623T170000
DTEND;TZID=America/Denver:20250623T193000
DTSTAMP:20260422T202759
CREATED:20250318T033400Z
LAST-MODIFIED:20250318T033400Z
UID:17126-1750698000-1750707000@homesteadproductsmt.com
SUMMARY:The Bigfork Monday Market
DESCRIPTION:
URL:https://homesteadproductsmt.com/where-to-find-us/the-bigfork-monday-market-5/
END:VEVENT
BEGIN:VEVENT
DTSTART;TZID=America/Denver:20250616T170000
DTEND;TZID=America/Denver:20250616T193000
DTSTAMP:20260422T202759
CREATED:20250318T033305Z
LAST-MODIFIED:20250318T033305Z
UID:17124-1750093200-1750102200@homesteadproductsmt.com
SUMMARY:The Bigfork Monday Market
DESCRIPTION:
URL:https://homesteadproductsmt.com/where-to-find-us/the-bigfork-monday-market-4/
END:VEVENT
BEGIN:VEVENT
DTSTART;TZID=America/Denver:20250609T190000
DTEND;TZID=America/Denver:20250609T193000
DTSTAMP:20260422T202759
CREATED:20250318T033216Z
LAST-MODIFIED:20250318T033216Z
UID:17122-1749495600-1749497400@homesteadproductsmt.com
SUMMARY:The Bigfork Monday Market
DESCRIPTION:
URL:https://homesteadproductsmt.com/where-to-find-us/the-bigfork-monday-market-3/
END:VEVENT
BEGIN:VEVENT
DTSTART;TZID=America/Denver:20250602T170000
DTEND;TZID=America/Denver:20250602T193000
DTSTAMP:20260422T202759
CREATED:20250318T033031Z
LAST-MODIFIED:20250318T033031Z
UID:17120-1748883600-1748892600@homesteadproductsmt.com
SUMMARY:The Bigfork Monday Market
DESCRIPTION:
URL:https://homesteadproductsmt.com/where-to-find-us/the-bigfork-monday-market-2/
END:VEVENT
BEGIN:VEVENT
DTSTART;TZID=America/Denver:20250526T170000
DTEND;TZID=America/Denver:20250526T193000
DTSTAMP:20260422T202759
CREATED:20250317T231339Z
LAST-MODIFIED:20250317T231339Z
UID:17106-1748278800-1748287800@homesteadproductsmt.com
SUMMARY:The Bigfork Monday Market
DESCRIPTION:
URL:https://homesteadproductsmt.com/where-to-find-us/the-bigfork-monday-market/
LOCATION:Bigfork\, Bigfork\, MT\, 59911
END:VEVENT
END:VCALENDAR